BEGIN:VCALENDAR
VERSION:2.0
PRODID:-//wp-events-plugin.com//6.3//EN
TZID:Europe/Berlin
X-WR-TIMEZONE:Europe/Berlin
BEGIN:VEVENT
UID:346@muksbruchsal.de
DTSTART;TZID=Europe/Berlin:20260703T190000
DTEND;TZID=Europe/Berlin:20260703T213000
DTSTAMP:20260415T125024Z
URL:https://www.muksbruchsal.de/events/yesjazz-and-more-das-get-together-d
 er-bruchsaler-schulbands-2/
SUMMARY:Yes:Jazz and more – Das Get-together der Bruchsaler Schulbands
DESCRIPTION:Die Bruchsaler Schulbands machen bei „Yes:Jazz and more“ Lu
 st auf Jazz\, Swing und Rock! Bei diesem besonderen Get-togheter wirddie
 „Yes:Jazz“-Traditionfortgesetzt:Seit2014präsentierenSchulbandsder Bru
 chsaler Schulen und Ensembles der MuKs ihre Musik vor größerem Publikum.
  Dafür coachen Dozentender MuKs die Ensembles vorab in Bereichen wie Impr
 ovisation\, Phrasierung oder Groove und Timing. Beim gemeinsamen Konzert i
 m Atrium beim Bürgerzentrum Bruchsal zeigen die Bands dann ihr Können un
 d bringen das Publikum zum Mitswingen.\n\nFr. 03.07.2026\n19.00 Uhr\nAtriu
 m beim Bürgerzentrum Bruchsal\n\n&nbsp\;\n\nEintritt frei | Spenden willk
 ommen
ATTACH;FMTTYPE=image/jpeg:https://www.muksbruchsal.de/wp-content/uploads/2
 024/01/E-Gitarre-1.jpg
CATEGORIES:Konzert
LOCATION:Bürgerzentrum Bruchsal\, Am Alten Schloß 22\, Bruchsal\, 76646\,
  Deutschland
X-APPLE-STRUCTURED-LOCATION;VALUE=URI;X-ADDRESS=Am Alten Schloß 22\, Bruch
 sal\, 76646\, Deutschland;X-APPLE-RADIUS=100;X-TITLE=Bürgerzentrum Bruchs
 al:geo:0,0
END:VEVENT
BEGIN:VTIMEZONE
TZID:Europe/Berlin
X-LIC-LOCATION:Europe/Berlin
BEGIN:DAYLIGHT
DTSTART:20260329T030000
TZOFFSETFROM:+0100
TZOFFSETTO:+0200
TZNAME:CEST
END:DAYLIGHT
END:VTIMEZONE
END:VCALENDAR