BEGIN:VCALENDAR
VERSION:2.0
PRODID:-//wp-events-plugin.com//6.3//EN
TZID:Europe/Berlin
X-WR-TIMEZONE:Europe/Berlin
BEGIN:VEVENT
UID:312@muksbruchsal.de
DTSTART;TZID=Europe/Berlin:20260426T180000
DTEND;TZID=Europe/Berlin:20260426T200000
DTSTAMP:20260210T150806Z
URL:https://www.muksbruchsal.de/events/unitedjazzrock/
SUMMARY:Internationales Kraichgau Jazzfestival: The United Jazz+Rock Ensemb
 le  2nd Generation
DESCRIPTION:Das United Jazz+Rock Ensemble 2nd Generation setzt die legendä
 re Tradition des Originals fort. Mit Jazz\, Rock und klassischen Elementen
  verschwimmen die Genregrenzen. Inspiriert vom Ensemble um Wolfgang Dauner
 \, verbindet die 2nd Generation Klassiker mit eigenen Kompositionen und mo
 dernen Einflüssen. Erstklassige Musiker der internationalen Jazzszene ver
 einen Virtuosität und Emotion. Ein Tribut an die Geschichte mit klarer Vi
 sion für die Zukunft.\n\nSo. 26. April 2026 | 18.00 Uhr | Mehrzweckhalle 
 Menzingen\n\nTickets zu 35€ / erm. 25€ / Kinder bis 14 Jahre frei\nim 
 Online-Ticketshop der Musik- und Kunstschule Bruchsal oder im Sekretariat 
 der MuKs\n\n\n\nzum kompletten Programm...
ATTACH;FMTTYPE=image/jpeg:https://www.muksbruchsal.de/wp-content/uploads/2
 025/11/1-5.png
CATEGORIES:Musik
LOCATION:Mehrzweckhalle Menzingen\, Industriestraße 12\, Kraichtal\, 76703
 \, Deutschland
X-APPLE-STRUCTURED-LOCATION;VALUE=URI;X-ADDRESS=Industriestraße 12\, Kraic
 htal\, 76703\, Deutschland;X-APPLE-RADIUS=100;X-TITLE=Mehrzweckhalle Menzi
 ngen:geo:0,0
END:VEVENT
BEGIN:VTIMEZONE
TZID:Europe/Berlin
X-LIC-LOCATION:Europe/Berlin
BEGIN:DAYLIGHT
DTSTART:20260329T030000
TZOFFSETFROM:+0100
TZOFFSETTO:+0200
TZNAME:CEST
END:DAYLIGHT
END:VTIMEZONE
END:VCALENDAR