BEGIN:VCALENDAR
VERSION:2.0
PRODID:-//wp-events-plugin.com//6.3//EN
TZID:Europe/Berlin
X-WR-TIMEZONE:Europe/Berlin
BEGIN:VEVENT
UID:347@muksbruchsal.de
DTSTART;TZID=Europe/Berlin:20260429T183000
DTEND;TZID=Europe/Berlin:20260429T193000
DTSTAMP:20260423T063717Z
URL:https://www.muksbruchsal.de/events/saitenklang-erster-auftakt-klassenv
 orspiel-sophia-hartmann-und-leon-werner/
SUMMARY:„Saitenklang - Erster Auftakt“ – Klassenvorspiel Sophia Hartm
 ann und Leon Werner
DESCRIPTION:„Time for Strings“ heißt die Veranstaltungsreihe des Fachb
 ereichs „Streichinstrumente“ an der MuKs.\nIn vielen Veranstaltungen z
 wischen April und Juli 2026 stellen sich die unterschiedlichen Instrumenta
 lklassen des Fachbereichs vor.\n\nUnter dem Motte „Saitenklang - Erster 
 Auftakt“ machen die Violinklasse von Sophia Hartmann und die Celloklasse
  von Leon Werner den Auftakt zu „Time for strings“\n\nMi.\, 29.04.2026
 \, 17.30 Uhr\n\nRimolini-Saal MuKs Bruchsal\n\nEintritt frei | Spenden wil
 lkommen
ATTACH;FMTTYPE=image/jpeg:https://www.muksbruchsal.de/wp-content/uploads/2
 026/04/Streicher-4.jpg
CATEGORIES:Musik
LOCATION:MuKs Bruchsal - Rimolini-Saal\, Durlacher Str. 3-7\, Bruchsal\, 76
 646\, Deutschland
X-APPLE-STRUCTURED-LOCATION;VALUE=URI;X-ADDRESS=Durlacher Str. 3-7\, Bruchs
 al\, 76646\, Deutschland;X-APPLE-RADIUS=100;X-TITLE=MuKs Bruchsal - Rimoli
 ni-Saal:geo:0,0
END:VEVENT
BEGIN:VTIMEZONE
TZID:Europe/Berlin
X-LIC-LOCATION:Europe/Berlin
BEGIN:DAYLIGHT
DTSTART:20260329T030000
TZOFFSETFROM:+0100
TZOFFSETTO:+0200
TZNAME:CEST
END:DAYLIGHT
END:VTIMEZONE
END:VCALENDAR