BEGIN:VCALENDAR
VERSION:2.0
PRODID:-//wp-events-plugin.com//6.3//EN
TZID:Europe/Berlin
X-WR-TIMEZONE:Europe/Berlin
BEGIN:VEVENT
UID:333@muksbruchsal.de
DTSTART;TZID=Europe/Berlin:20260517T110000
DTEND;TZID=Europe/Berlin:20260517T130000
DTSTAMP:20260226T072731Z
URL:https://www.muksbruchsal.de/events/im-rampenlicht-musik-und-kunst-im-k
 elterhaus-ubstadt/
SUMMARY:Im Rampenlicht! – Musik und Kunst im Kelterhaus Ubstadt
DESCRIPTION:Ein exquisites Kammerkonzert mit herausragenden Talenten aus de
 n Instrumentalklassen der Musik- und Kunstschule (MuKs) Ubstadt-Weiher. Im
  Anschluss laden wir ein zur Vernissage der Ausstellung „Wir zeigen‘s 
 euch!“ der Ubstadt-Weiherer Kunstklassen. Von kleinen Tonfiguren bis zur
  großformatigen Malerei ist alles dabei. Erleben Sie die MuKs hautnah und
  kommen Sie mit den jungen Künstlern und Künstlerinnen bei einem kleinen
  Umtrunk in lockerer Atmosphäre ins Gespräch!\n\nSonntag\, 17.05.2026 -
  11 Uhr (Ausstellung geöffnet bis 17 Uhr)\nUbstadt\, Obere Str. 11\nE
 intritt frei | Spenden willkommen
ATTACH;FMTTYPE=image/jpeg:https://www.muksbruchsal.de/wp-content/uploads/2
 026/02/Foto-im-Rampenlicht.jpg
CATEGORIES:Konzert,Konzert,Musik
LOCATION:Kelterhaus Ubstadt\, Obere Straße 11 \, Ubstadt\, Deutschland
X-APPLE-STRUCTURED-LOCATION;VALUE=URI;X-ADDRESS=Obere Straße 11 \, Ubstadt
 \, Deutschland;X-APPLE-RADIUS=100;X-TITLE=Kelterhaus Ubstadt:geo:0,0
END:VEVENT
BEGIN:VTIMEZONE
TZID:Europe/Berlin
X-LIC-LOCATION:Europe/Berlin
BEGIN:DAYLIGHT
DTSTART:20260329T030000
TZOFFSETFROM:+0100
TZOFFSETTO:+0200
TZNAME:CEST
END:DAYLIGHT
END:VTIMEZONE
END:VCALENDAR