BEGIN:VCALENDAR
VERSION:2.0
PRODID:-//wp-events-plugin.com//6.3//EN
TZID:Europe/Berlin
X-WR-TIMEZONE:Europe/Berlin
BEGIN:VEVENT
UID:334@muksbruchsal.de
DTSTART;TZID=Europe/Berlin:20260728T183000
DTEND;TZID=Europe/Berlin:20260728T193000
DTSTAMP:20260226T074043Z
URL:https://www.muksbruchsal.de/events/ferienstimmung-musizierstunde-der-m
 uks-forst/
SUMMARY:„Ferienstimmung“ – Musizierstunde der MuKs Forst
DESCRIPTION:Das Rauschen des Meeres\, Sand zwischen den Zehen\, die Bergluf
 t auf dem erklommenen Gipfel\, Ruhe und Zeit\, einfach mal nichts zu tun: 
 Ferien - wer sehnt sich nicht danach?! Bei diesem besonderen Konzert stimm
 en Sie junge Talente der MuKs Forst auf die Sommerferien ein. Kommen Sie m
 it uns auf eine musikalische Reise zu Sehnsuchtsorten in fernen Ländern! 
 Lehnen Sie sich zurück und genießen Sie herzerwärmende Klänge\, heiße
  Rhythmen und einen lauen Sommerabend voller Musik.\n&nbsp\;\n„Feriensti
 mmung“ – Musizierstunde der MuKs Forst\n28.7.26\n18.30 Uhr\nHubertus-S
 aal im Jägerhaus\nEintritt frei - Spenden willkommen
ATTACH;FMTTYPE=image/jpeg:https://www.muksbruchsal.de/wp-content/uploads/2
 026/02/20250922_LW__S7_3174_LR-100.jpg
CATEGORIES:Konzert,Konzert,Musik
LOCATION:Jägerhaus Forst\, Schwanenstrasse 24\, Forst\, 76694\, Deutschlan
 d
X-APPLE-STRUCTURED-LOCATION;VALUE=URI;X-ADDRESS=Schwanenstrasse 24\, Forst\
 , 76694\, Deutschland;X-APPLE-RADIUS=100;X-TITLE=Jägerhaus Forst:geo:0,0
END:VEVENT
BEGIN:VTIMEZONE
TZID:Europe/Berlin
X-LIC-LOCATION:Europe/Berlin
BEGIN:DAYLIGHT
DTSTART:20260329T030000
TZOFFSETFROM:+0100
TZOFFSETTO:+0200
TZNAME:CEST
END:DAYLIGHT
END:VTIMEZONE
END:VCALENDAR